Workbook
Name Excel_BuiltIn_Print_Area: 'Identificação da unidade'!$A$1:$L$23
Name Excel_BuiltIn_Print_Area: 'Informações Técnicas'!$A$2:$P$19
Name Excel_BuiltIn_Print_Area: 'Gases, lavanderia e resíduo'!$A$1:$G$46
Name Excel_BuiltIn_Print_Area: Nutrição!$A$1:$G$56
Name Excel_BuiltIn_Print_Area: Equipamentos!$A$1:$R$406
Name Excel_BuiltIn_Print_Area: 'Infra-estrutura'!$A$1:$H$87
Name Excel_BuiltIn_Print_Area: 'Atividade I'!$A$1:$K$176
Name Excel_BuiltIn_Print_Area: 'Atividade II '!$A$1:$E$84
Name Excel_BuiltIn_Print_Area: 'AIH-SIA'!$A$1:$E$78
Name Excel_BuiltIn_Print_Area: 'Anexos de justificativas'!$A$1:$F$34

Sheet Informações Técnicas
A2: Secretaria da Saúde do Estado da Bahia | O2: UNIDADE: | P2: COMPLEXO
A3: Relatório de Informação Hospitalar | O3: ANO: | P3: 2026
O4: MÊS: | P4: SETEMBRO
I7: BLOCO B | K7: Informações Técnicas | O7: VERSÃO 4.0
K9: Presidente / Responsável | L9: Cons./Estado | M9: Número | N9: Suplente | O9: Cons./Estado | P9: Número
A10: 1. Comissão de Avaliação e Revisão de Prontuários: | K10: INDIRA RAMOS SENNA SOUZA | L10: CRM | M10: 32066 | N10: LUANA STELA DE ARAÚJO | O10: COREN | P10: 406638
A11: 2. Comissão de Controle de Infecção Hospitalar: | K11: ELAINE PÚBLIO MORAES ROCHA | L11: COREN | M11: 168056 | N11: EMILLE STELLA DE ARAUJO SANTOS | O11: COREN | P11: 420558
A12: 3. Comissão de Farmácia Terapeutica: | K12: DANIELE SOUZA NASCIMENTO | L12: CRF-BA | M12: 11095 | N12: THAISE CAIRES SILVA | O12: CRF-BA | P12: 8578
A13: 4. Comissão de Ética Médica: | K13: ADRIANO SILVA PIRES | L13: CRM | M13: 204588 | N13: ANDERSON BARRETO DA CUNHA | O13: CRM | P13: 24424
A14: 5. Comissão de Ética de Enfermagem:
A15: 6. Comissão Interna de Prevenção de Acidentes de Trabalho (CIPA):
A16: 7. Comissão de Humanização da Assistência: | K16: GLAUCIE MENDES DE SOUZA | L16: CRBM | M16: 14816 | N16: EMILLE STELLA DE ARAUJO SANTOS | O16: COREN | P16: 420558
A17: 8. Comissão de Estudo de Mortalidade Materna: | K17: MARIETA OLIVEIRA DOS ANJOS | L17: CRP | M17: 06/191073 | N17: ROBERTA OLIVEIRA DE LEMOS | O17: COREN | P17: 367132
A18: 9. Comissão de Estudo de Mortalidade Neonatal: | K18: LUCAS DOS SANTOS ALCANTARA | L18: COREN | M18: 711512 | N18: ROBERTA OLIVEIRA DE LEMOS | O18: COREN | P18: 367132
A19: 10. SAC - Serviço de Atendimento ao Cliente: | K19: ANA TEREZA ARGOLO DE LUNA | L19: COREN | M19: 576821 | N19: EMILLE STELLA DE ARAUJO SANTOS | O19: COREN | P19: 420558

Sheet Identificação da unidade
A2: Secretaria da Saúde do Estado da Bahia | J2: ANO | K2: 2026
A3: Relatório de Informação Hospitalar | J3: MÊS | K3: SETEMBRO
A6: ATENÇÃO: PREENCHA OS CAMPOS EM AMARELO. OS DEMAIS CAMPOS ESTÃO PROTEGIDOS.
B8: BLOCO A | D8: IDENTIFICAÇÃO DA UNIDADE | K8: VERSÃO 4.1
C10: Unidade: | D10: MATERNIDADE FREI JUSTO VENTURE/ HOSPITAL REGIONAL DA CHAP.
C11: CNPJ: | D11: 05.413.531/0001-20/ 05.413.531/0001-20
C12: CNES: | D12: 2870045/ 9383298
A13: Instituição Gestora: | D13: FUNDAÇÃO ABM DE PESQUISA E EXTENSÃO NA AREA DA SAÚDE
C15: Endereço: | D15: PRAÇA DA BANDEIRA - 100/ RUA-FRANCISCO COSTA 348-465
C16: Cidade: | D16: SEABRA
A18: Responsável pela Unidade: | D18: ALESSANDER RODRIGUES DA ROZA
C19: Cargo: | D19: Diretor Geral
C20: Telefone: | D20: 22-99427299
C21: E-mail: | D21: administracao.hrc@fabamed.org.br

Sheet FINANCEIRO GERAL 
A2: Secretaria da Saúde do Estado da Bahia | D2: UNIDADE: | E2: CHAPADA
A3: Relatório de Informação Hospitalar | D3: ANO: | E3: 2026
D4: MÊS: | E4: SETEMBRO
A7: BLOCO C | B7: SITUAÇÃO FINANCEIRA
A8: Campo | B8: Conceito | C8: Valor
A9: A | B9: SALDO ANTERIOR | C9: 1
A11: B | B11: TOTAL RECEITAS | C11: =SUM(C12:C14) -> 5401119
A12: B1 | B12: CONTRATO SESAB / LÍQUIDO RECEBIDO | C12: 4002736.9
A13: B2 | B13: APLICAÇÃO FINANCEIRA | C13: -124660.73
A14: B3 | B14: OUTROS RECEBIMENTOS | C14: 1523042.8
A16: C | B16: TOTAL DESPESA | C16: =SUM(C17:C41) -> 5401119
A17: C1 | B17: FOLHA | C17: =SUM('FINANCEIRO DETALHADO '!D11:D18) -> 1603897.5
A18: C2 | B18: SERVIÇOS MÉDICOS TERCEIRIZADOS | C18: =SUM('FINANCEIRO DETALHADO '!D19:D56) -> 1621026.4
A19: C3 | B19: SERVIÇOS ASSISTENCIAIS TERCEIRIZADOS | C19: =SUM('FINANCEIRO DETALHADO '!D57:D63) -> 43021.85
A20: C4 | B20: MEDICAMENTOS | C20: ='FINANCEIRO DETALHADO '!D64+'FINANCEIRO DETALHADO '!D65 -> 301434.02
A21: C5 | B21: MATERIAIS MÉDICOS | C21: =SUM('FINANCEIRO DETALHADO '!D66:D70) -> 274086.72
A22: C6 | B22: LABORATÓRIO | C22: =SUM('FINANCEIRO DETALHADO '!D71:D75) -> 42647.07
A23: C7 | B23: NUTRIÇÃO | C23: =SUM('FINANCEIRO DETALHADO '!D76:D80) -> 796251.33
A24: C8 | B24: SERVIÇOS DE CONCESSÃO PÚBLICA | C24: =SUM('FINANCEIRO DETALHADO '!D82:D86) -> 11819.29
A25: C9 | B25: LIMPEZA E HIGIENIZAÇÃO | C25: ='FINANCEIRO DETALHADO '!D87+'FINANCEIRO DETALHADO '!D88 -> 109794.75
A26: C10 | B26: SERVIÇO DE MANUTENÇÃO | C26: =SUM('FINANCEIRO DETALHADO '!D89:D97) -> 99862.08
A27: C11 | B27: MATERIAIS DE MANUTENÇÃO | C27: =SUM('FINANCEIRO DETALHADO '!D98:D102) -> 7033.84
A28: C12 | B28: MATERIAL DE EXPEDIENTE | C28: ='FINANCEIRO DETALHADO '!D103+'FINANCEIRO DETALHADO '!D104 -> 13898.39
A29: C13 | B29: LAVANDERIA | C29: =SUM('FINANCEIRO DETALHADO '!D105:D107) -> 31089.14
A30: C14 | B30: TRANSPORTES | C30: =SUM('FINANCEIRO DETALHADO '!D108:D114) -> 39512.55
A31: C15 | B31: COMUNICAÇÃO E MARKETING | C31: =SUM('FINANCEIRO DETALHADO '!D115:D122) -> 9797
A32: C16 | B32: TEC. DA INFORMAÇÃO E COMUNICAÇÃO | C32: =SUM('FINANCEIRO DETALHADO '!D123:D125) -> 13527.13
A33: C17 | B33: VIAGENS | C33: =SUM('FINANCEIRO DETALHADO '!D126:D128) -> 0
A34: C18 | B34: CONSULTORIAS | C34: =SUM('FINANCEIRO DETALHADO '!D129:D133) -> 231553.25
A35: C19 | B35: TAXAS E JUROS | C35: =SUM('FINANCEIRO DETALHADO '!D134:D138) -> 2850.22
A36: C20 | B36: ENSINO E PESQUISA | C36: =SUM('FINANCEIRO DETALHADO '!D139:D142) -> 16819.7
A37: C21 | B37: MATERIAL PERMANENTE | C37: =SUM('FINANCEIRO DETALHADO '!D143:D149) -> 111410.21
A38: C22 | B38: IMPOSTOS | C38: =SUM('FINANCEIRO DETALHADO '!D150:D152) -> 166.42
A39: C23 | B39: MATERIAL DE CONSUMO | C39: ='FINANCEIRO DETALHADO '!D153 -> 0
A40: C24 | B40: SEGUROS | C40: =SUM('FINANCEIRO DETALHADO '!D154:D156) -> 3795.9
A41: C25 | B41: OUTROS NÃO DETALHADOS | C41: ='FINANCEIRO DETALHADO '!D157 -> 15824.2
B43: RESULTADO FINAL (A+B-C) | C43: =C9+C11-C16 -> 1
A46: D | B46: PROVISÃO TRABALHISTA (D1+D2) | C46: =SUM(C47:C48) -> 11582771
A47: D1 | B47: SALDO PROVISÃO ACUMULADO | C47: 11247702
A48: D2 | B48: PROVISÃO DO MÊS | C48: =40675.7+125431.83+168961.67 -> 335069.2
...

Sheet FINANCEIRO DETALHADO 
B2: Secretaria da Saúde do Estado da Bahia UNIDADE: | D2: CHAPADA
B3: Relatório de Informação Hospitalar ANO: | D3: 2026
C4: MÊS: | D4: SETEMBRO
B8: BLOCO D | C8: DETALHAMENTO DAS DESPESAS DA UNIDADE
A10: Campo | B10: Código Objeto / Código Conceito | C10: Nota Explicativa / Detalhamento da Despesa | D10: Valor Pago
A11: 1 | B11: 1 - Folha / 1.1 - Salários | C11: FOLHA MENSAL + FOLHA COMPLEMENTAR PISO ENFERMAGEM | D11: 1337125.4
A12: 2 | B12: 1 - Folha / 1.2 - Obrigações Sociais / INSS
A13: 3 | B13: 1 - Folha / 1.3 - Obrigações Sociais / FGTS | D13: 87310.11
A14: 4 | B14: 1 - Folha / 1.4 - Obrigações Sociais / PIS
A15: 5 | B15: 1 - Folha / 1.5 - Benefícios
A16: 6 | B16: 1 - Folha / 1.6 - Provisão (13°, férias, rescisões etc) | D16: 177364.16
A17: 7 | B17: 1 - Folha / 1.7 - Seguros | D17: 2097.9
A18: 8 | B18: 1 - Folha / 1.8 - RPA (autônomo)
A19: 9 | B19: 2 - Serviços Médicos Terceirizados / 2.1 - Anestesiologia | D19: 286511
A20: 10 | B20: 2 - Serviços Médicos Terceirizados / 2.2 - Vasculares
A21: 11 | B21: 2 - Serviços Médicos Terceirizados / 2.3 - Cardiologia | D21: 17406
A22: 12 | B22: 2 - Serviços Médicos Terceirizados / 2.4 - Radiologia
A23: 13 | B23: 2 - Serviços Médicos Terceirizados / 2.5 - Oncologia
A24: 14 | B24: 2 - Serviços Médicos Terceirizados / 2.6 - Proctologia
A25: 15 | B25: 2 - Serviços Médicos Terceirizados / 2.7 - Urologia
A26: 16 | B26: 2 - Serviços Médicos Terceirizados / 2.8 - Cirurgia Plástica
A27: 17 | B27: 2 - Serviços Médicos Terceirizados / 2.9 - Cirurgia Geral | D27: 240053.99
A28: 18 | B28: 2 - Serviços Médicos Terceirizados / 2.10 - Cirurgia Cabeça e Pescoço
A29: 19 | B29: 2 - Serviços Médicos Terceirizados / 2.11 - Cirurgia Pediatrica
A30: 20 | B30: 2 - Serviços Médicos Terceirizados / 2.12 - Clínica Geral | D30: 371348.69
A31: 21 | B31: 2 - Serviços Médicos Terceirizados / 2.13 - Obstetrícia | D31: 253066.92
A32: 22 | B32: 2 - Serviços Médicos Terceirizados / 2.14 - Ultrassonografia | D32: 17432.37
A33: 23 | B33: 2 - Serviços Médicos Terceirizados / 2.15 - Pediatria | D33: 8176.5
A34: 24 | B34: 2 - Serviços Médicos Terceirizados / 2.16 - Ortopedia | D34: 114247.32
A35: 25 | B35: 2 - Serviços Médicos Terceirizados / 2.17 - Plantonistas
A36: 26 | B36: 2 - Serviços Médicos Terceirizados / 2.18 - Toco-Ginecologia
A37: 27 | B37: 2 - Serviços Médicos Terceirizados / 2.19 - Neurologia | D37: 23309
A38: 28 | B38: 2 - Serviços Médicos Terceirizados / 2.20 - Infectologia | D38: 13852.5
A39: 29 | B39: 2 - Serviços Médicos Terceirizados / 2.21 - Pneumologia
A40: 30 | B40: 2 - Serviços Médicos Terceirizados / 2.22 - Gastroenterologia
A41: 31 | B41: 2 - Serviços Médicos Terceirizados / 2.23 - Coloproctologia
A42: 32 | B42: 2 - Serviços Médicos Terceirizados / 2.24 - Genecologia
A43: 33 | B43: 2 - Serviços Médicos Terceirizados / 2.25 - Hematologia
A44: 34 | B44: 2 - Serviços Médicos Terceirizados / 2.26 - Nefrologia | D44: 11700
A45: 35 | B45: 2 - Serviços Médicos Terceirizados / 2.27 - Angiologia | D45: 21210.1
...

Sheet Gases, lavanderia e resíduo
C2: Secretaria da Saúde do Estado da Bahia | F2: UNIDADE: | G2: CHAPADA
C3: Relatório de Informação Hospitalar | F3: ANO: | G3: 2026
F4: MÊS: | G4: SETEMBRO
A8: BLOCO E | C8: DETALHAMENTO DESPESAS COM GASES MEDICINAIS
B10: CAMPO | C10: ELEMENTOS DO CONTRATO | D10: MEDIDA | E10: CNPJ PRESTADOR | F10: QTDE. MÊS | G10: VALOR PAGO
B11: 1 | C11: Aluguel de Cilindro | D11: und.
B12: 2 | C12: Frete | D12: und.
B13: 3 | C13: Oxigênio Medicinal Gasoso | D13: m³ | E13: 34.833.671/0001-55 | G13: 1680
B14: 4 | C14: Oxigênio Medicinal Líquido | D14: m³ | E14: 31.442.779/0001-29 | G14: 44780
B15: 5 | C15: Ar Comprimido Medicinal Gasoso | D15: m³
B16: 6 | C16: Óxido Nitroso Medicinal | D16: kg
B17: 7 | C17: Argônio 4.5 | D17: m³
B18: 8 | C18: Nitrogênio 4.6 | D18: m³
B19: 9 | C19: Nitrogênio Comercial | D19: m³
B20: 10 | C20: Dióxido de Carbono 99% | D20: kg
B21: TOTAL GERAL NO MÊS | F21: =SUM(F11:F20) -> 0 | G21: =SUM(G11:G20) -> 46460
C24: DETALHAMENTO DESPESAS COM LAVANDERIA
B26: CAMPO | C26: ELEMENTOS DO CONTRATO | D26: MEDIDA | E26: CNPJ PRESTADOR | F26: QTDE. MÊS | G26: VALOR PAGO
B27: 1 | C27: Processamento de Roupa | D27: kg
B28: 2 | C28: Processamento de Roupa | D28: kg
B29: TOTAL GERAL NO MÊS | F29: =SUM(F27:F28) -> 0 | G29: =SUM(G27:G28) -> 0
C32: DETALHAMENTO DESPESAS COM DESCARTE DE RESÍDUOS SÓLIDOS E LÍQUIDOS
B34: CAMPO | C34: ELEMENTOS DO CONTRATO | D34: MEDIDA | E34: CNPJ PRESTADOR | F34: QTDE. MÊS | G34: VALOR PAGO
B35: 1 | C35: Descarte de Resíduos Hospitalares (Sólidos e Líquidos) | D35: kg | E35: 02.524.491/0001-03 | G35: 4514
B36: 2 | C36: Descarte de Resíduos Hospitalares (Sólidos e Líquidos) | D36: kg
B37: TOTAL GERAL NO MÊS | F37: =SUM(F35:F36) -> 0 | G37: 4514
C41: Responsável pelo preenchimento
B43: Nome: | C43: REGINALDO NOGUEIRA SILVA JUNIOR
B44: Cargo: | C44: COORDENADOR ADMINISTRATIVO
B45: Telefone: | C45: 75 99931 4704
B46: E-mail: | C46: prestconta.hrc@gmail.com

Sheet Nutrição
C2: Secretaria da Saúde do Estado da Bahia | F2: UNIDADE: | G2: COMPLEXO
C3: Relatório de Informação Hospitalar | F3: ANO: | G3: 2025
F4: MÊS: | G4: SETEMBRO
A8: BLOCO F | C8: DETALHAMENTO DESPESAS COM NUTRIÇÃO HOSPITALAR
B10: CAMPO | C10: ELEMENTOS DO CONTRATO | D10: MEDIDA | E10: CNPJ PRESTADOR | F10: QTDE. MÊS | G10: VALOR PAGO
B11: 1 | C11: 1. Paciente Adulto / 1.1 Desjejum | D11: und.
B12: 2 | C12: 1. Paciente Adulto / 1.2 Colação | D12: und.
B13: 3 | C13: 1. Paciente Adulto / 1.3 Almoço | D13: und.
B14: 4 | C14: 1. Paciente Adulto / 1.4 Lanche | D14: und.
B15: 5 | C15: 1. Paciente Adulto / 1.5 Jantar | D15: und.
B16: 6 | C16: 1. Paciente Adulto / 1.6 Ceia completa | D16: und.
B17: 7 | C17: 1. Paciente Adulto / 1.7 Ceia leve | D17: und.
B18: 8 | C18: 2. Paciente Infantil / 2.1 Desjejum | D18: und.
B19: 9 | C19: 2. Paciente Infantil / 2.2 Colação | D19: und.
B20: 10 | C20: 2. Paciente Infantil / 2.3 Almoço | D20: und.
B21: 11 | C21: 2. Paciente Infantil / 2.4 Lanche | D21: und.
B22: 12 | C22: 2. Paciente Infantil / 2.5 Jantar | D22: und.
... B35: 25 | C35: 4. Funcionários / 4.5 Ceia completa | D35: und.
B36: TOTAL REFEIÇÕES NO MÊS | F36: =SUM(F11:F35) -> 0 | G36: =SUM(G11:G35) -> 0
B38: CAMPO | C38: ELEMENTOS DO CONTRATO | D38: MEDIDA | E38: CNPJ PRESTADOR | F38: QTDE. MÊS | G38: VALOR PAGO
B39: 26 | C39: 5. Dieta Líquida / 5.1 Líquida | D39: und.
B40: 27 | C40: 5. Dieta Líquida / 5.2 Semi-líquida | D40: und.
B41: 28 | C41: 5. Dieta Líquida / 5.3 Líquida Restrita | D41: und.
B42: 29 | C42: 5. Dieta Líquida / 5.4 Fórmula Láctea ou Não Láctea | D42: und.
B43: 30 | C43: 5. Dieta Líquida / 5.5 Fórmula Infantil | D43: und.
B44: 31 | C44: 5. Dieta Líquida / 5.6 Fórmula Enteral | D44: und.
B45: TOTAL DIETAS LÍQUIDAS NO MÊS | F45: =SUM(F39:F44) -> 0 | G45: =SUM(G39:G44) -> 0
B47: TOTAL GERAL NO MÊS | F47: =SUM(F45,F36) -> 0 | G47: =SUM(G36,G45) -> 0
C51: Responsável pelo preenchimento
B53: Nome:
B54: Cargo:
B55: Telefone:
B56: E-mail:

Sheet Equipamentos
E2: Secretaria da Saúde do Estado da Bahia | J2: UNIDADE: | K2: COMPLEXO
E3: Relatório de Informação Hospitalar | J3: ANO: | K3: 2026
J4: MÊS: | K4: SETEMBRO
A6: Campo | B6: BLOCO G | D6: RELAÇÃO DE EQUIPAMENTOS MÉDICO-HOSPITALAR
A7: 1 | B7: Equipamento | C7: Data de Aquisição do Equipamento | D7: Fabricante | E7: Modelo | F7: Série | G7: Tombamento SESAB | H7: Estado de Conservação | I7: Setor / Localização | J7: Contrato Manutenção | K7: Empresa Contratada | L7: Valor do Contrato | M7: Data da Ultima Realização de Manutenção Preventiva no Mês | N7: Data da Ultima Realização de Manutenção Corretiva no Mês | O7: Custo Manutenção Corretiva / Equipamento Sem Cobertura | P7: Descrição dos Serviços Realizados no Mês | Q7: Número Dias Parados | R7: Impacto na Assistência
A8: 2 | B8: APARELHO CARDIOVERSOR | C8: 30/09/2021 | D8: CMOS DRAKE | E8: VIVO | F8: 321080458 | G8: 510349 | H8: BOM | I8: UCINCO | J8: STAFF
A9: 3 | B9: APARELHO CARDIOVERSOR | C9: 30/09/2021 | D9: CMOS DRAKE | E9: VIVO | F9: 321080470 | G9: 510350 | H9: BOM | I9: CENTRO CIRÚRGICO | J9: STAFF
A10: 4 | B10: APARELHO CARDIOVERSOR | C10: 30/09/2021 | D10: CMOS DRAKE | E10: VIVO | F10: 321080415 | G10: 510351 | H10: BOM | I10: UCINCA | J10: STAFF
A11: 5 | B11: APARELHO CARDIOVERSOR | C11: 30/09/2021 | D11: CMOS DRAKE | E11: VIVO | F11: 321080461 | G11: 510360 | H11: BOM | I11: POSTO ENF.01 | J11: STAFF
A12: 6 | B12: APARELHO DE ANESTESIA | C12: 29/10/2021 | D12: MINDRAY | E12: WATO EX-20 | F12: DW-16011876 | G12: 522710 | H12: BOM | I12: CENTRO CIRÚRGICO | J12: STAFF
A13: 7 | B13: APARELHO DE ANESTESIA | C13: 29/10/2021 | D13: MINDRAY | E13: WATO EX-20 | F13: DW-16011894 | G13: 522714 | H13: BOM | I13: SALA DE CURETAGEM C.C | J13: STAFF
A14: 8 | B14: APARELHO DE FOTOTERAPIA | C14: 31/01/2022 | D14: FANEM | E14: FBILITRON 3006 | F14: JA5097004 | G14: 532574 | H14: BOM | I14: UCINCO | J14: STAFF
A15: 9 | B15: APARELHO DE FOTOTERAPIA | C15: 31/01/2022 | D15: FANEM | E15: FBILITRON 3006 | F15: JA5097032 | G15: 532602 | H15: BOM | I15: C.CIRÚRGICO | J15: STAFF
A16: 10 | B16: APARELHO DE FOTOTERAPIA | C16: 31/01/2022 | D16: FANEM | E16: FBILITRON 3006 | F16: JA5097036 | G16: 532606 | H16: BOM | I16: UCINCO | J16: STAFF
A17: 11 | B17: APARELHO DE FOTOTERAPIA | C17: 31/01/2022 | D17: FANEM | E17: FBILITRON 3006 | F17: JA5097041 | G17: 532611 | H17: BOM | I17: UCINCO | J17: STAFF
A18: 12 | B18: APARELHO DE RAIO X | C18: 11/08/2021 | D18: VMI | E18: AQUILA 320 S | F18: 1483601001 | G18: 505479 | H18: BOM | I18: UCINCA | J18: STAFF
A19: 13 | B19: APARELHO DE ULTRASONOGRAFIA | C19: 23/12/2021 | D19: SAE VO | E19: FT422 | F19: 50002010038 | G19: 530355 | H19: BOM | I19: SALA DE USG | J19: STAFF
A20: 14 | B20: APARELHO DE ULTRASONOGRAFIA | C20: 44613 | D20: SAEVO | E20: EVUS 8 | F20: 500002228071 | G20: 530446 | H20: BOM | I20: CENTRO CIRÚRGICO | J20: STAFF
A21: 15 | B21: APARELHO DETECTOR FETAL | C21: 18/06/2021 | D21: MEDPEJ | E21: DF-7000 S | F21: 245853 | G21: 495460 | H21: BOM | I21: SALA DA MANUTENÇÃO | J21: STAFF
A22: 16 | B22: APARELHO DETECTOR FETAL | C22: 18/06/2021 | D22: MEDPEJ | E22: DF-7000 S | F22: 244261 | G22: 495461 | H22: BOM | I22: SALA DA MANUTENÇÃO | J22: STAFF
A23: 17 | B23: APARELHO DETECTOR FETAL | C23: 18/06/2021 | D23: MEDPEJ | E23: DF-7000 S | F23: 24459 | G23: 495462 | H23: BOM | I23: SALA DA MANUTENÇÃO | J23: STAFF
A24: 18 | B24: APARELHO DETECTOR FETAL | C24: 18/06/2021 | D24: MEDPEJ | E24: DF-7000 S | F24: 244241 | G24: 495465 | H24: BOM | I24: SALA DA TRIAGEM | J24: STAFF
A25: 19 | B25: APARELHO DETECTOR FETAL | C25: 18/06/2021 | D25: MEDPEJ | E25: DF-7000 S | F25: 244229 | G25: 495468 | H25: BOM | I25: QUARTO P.P.P 02 | J25: STAFF
A26: 20 | B26: APARELHO ELETROCARDIOGRAFO | C26: 06/07/2021 | D26: BIONET | E26: EKG-2000 | F26: E1V080029 | G26: 499435 | H26: BOM | I26: UCINCO | J26: STAFF
A27: 21 | B27: APARELHO ELETROCARDIOGRAFO | C27: 06/07/2021 | D27: BIONET | E27: EKG-2000 | F27: E1U0800030 | G27: 499436 | H27: BOM | I27: POSTO DE ENF.01 | J27: STAFF
A28: 22 | B28: APARELHO LARINGOSCOPIO | C28: 22/10/2020 | D28: MD | E28: XENON | F28: SEM SÉRIE | G28: 475142 | H28: BOM | I28: SALA DE CIRURGIA | J28: STAFF
A29: 23 | B29: APARELHO LARINGOSCOPIO | C29: 22/10/2020 | D29: MD | E29: XENON | F29: SEM SÉRIE | G29: 475143 | H29: BOM | I29: SALA DE CIRURGIA | J29: STAFF
A30: 24 | B30: APARELHO LARINGOSCOPIO | C30: 22/10/2020 | D30: MD | E30: XENON | F30: SEM SÉRIE | G30: 475144 | H30: BOM | I30: POSTO DE ENFERMAGEM 01 | J30: STAFF
A31: 25 | B31: APARELHO LARINGOSCOPIO | C31: 21/07/2021 | D31: MIKATOS | E31: SEM MODELO | F31: SEM SÉRIE | G31: 502784 | H31: BOM | I31: SALA DA MANUTENÇÃO | J31: STAFF
A32: 26 | B32: APARELHO LARINGOSCOPIO | C32: 21/07/2021 | D32: MIKATOS | E32: SEM MODELO | F32: SEM SÉRIE | G32: 502785 | H32: BOM | I32: UCINCO | J32: STAFF
A33: 27 | B33: APARELHO LARINGOSCOPIO | C33: 44621 | D33: MIKATOS | E33: SEM MODELO | F33: SEM SÉRIE | G33: 523395 | H33: BOM | I33: SALA DE CIRURGIA | J33: STAFF
A34: 28 | B34: APARELHO LARINGOSCOPIO | C34: 44621 | D34: MIKATOS | E34: SEM MODELO | F34: SEM SÉRIE | G34: 523396 | H34: BOM | I34: CENTRO CIRÚRGICO | J34: STAFF
A35: 29 | B35: APARELHO OFTALMOSCOPIO | C35: 29/11/2019 | D35: MD | E35: VISION 2000 | F35: SEM SÉRIE | G35: 442096 | H35: BOM | I35: UCINCA | J35: STAFF
A36: 30 | B36: APARELHO OFTALMOSCOPIO | C36: 11/11/2021 | D36: MD | E36: VISION 2000 | F36: SEM SÉRIE | G36: 519702 | H36: BOM | I36: SALA DA MANUTENÇÃO | J36: STAFF
A37: 31 | B37: APARELHO OFTALMOSCOPIO | C37: 11/11/2021 | D37: MD | E37: VISION 2000 | F37: SEM SÉRIE | G37: 519707 | H37: BOM | I37: POSTO ENF.01 | J37: STAFF
A38: 32 | B38: APARELHO OTOSCOPIO | C38: 43949 | D38: MD | E38: SEM MODELO | F38: SEM SÉRIE | G38: 453658 | H38: BOM | I38: CENTRO CIRÚRGICO | J38: STAFF
A39: 33 | B39: APARELHO TENSIOMETRO | C39: 27/09/2021 | D39: PREMIUM | E39: PEDESTAL | F39: 539753 | G39: 509988 | H39: BOM | I39: POSTO DE ENFERMAGEM 01 | J39: STAFF
A40: 34 | B40: APARELHO TENSIOMETRO | C40: 27/09/2021 | D40: PREMIUM | E40: PEDESTAL | F40: SEM SÉRIE | G40: 509989 | H40: BOM | I40: SALA DE EXAMES ADMISSÃO | J40: STAFF
A41: 35 | B41: APARELHO TENSIOMETRO | C41: 27/09/2021 | D41: PREMIUM | E41: PEDESTAL | F41: 537913 | G41: 509990 | H41: BOM | I41: UCINCA | J41: STAFF
A42: 36 | B42: APARELHO TENSIOMETRO | C42: 27/09/2021 | D42: PREMIUM | E42: PEDESTAL | F42: 539702 | G42: 509991 | H42: BOM | I42: SALA PRÉ PARTO CIRÚRGICO | J42: STAFF
...

Sheet Infra-estrutura
B2: Secretaria da Saúde do Estado da Bahia | E2: UNIDADE: | F2: COMPLEXO
B3: Relatório de Informação Hospitalar | E3: ANO: | F3: 2026
E4: MÊS: | F4: SETEMBRO
A8: BLOCO H | B8: INFRA-ESTRUTURA E FINANCEIRO
A9: CAMPO | B9: DESCRIÇÃO / DETALHAMENTO DA SOLICITAÇÃO | C9: DATA DA SOLICITAÇÃO | D9: NÚMERO DO PROCESSO | E9: VALOR ESTIMADO | F9: CLASSIFICAÇÃO | G9: SITUAÇÃO ATUAL DO PROCESSO
A10: 1
A11: 2
A12: 3
A13: 4
A14: 5
A15: 6
A16: 7
A17: 8
A18: 9
A19: 10
A21: CAMPO | B21: DESCRIÇÃO DO EQUIPAMENTOS / ESPECIFICAÇÃO | C21: CÓDIGO SIMPAS | D21: DATA DA SOLICITAÇÃO | E21: NÚMERO DO PROCESSO | F21: QUANTIDADE | G21: VALOR ESTIMADO | H21: SITUAÇÃO ATUAL DO PROCESSO
A84: Nome
C87: E-mail:

Sheet RH
B2: Secretaria da Saúde do Estado da Bahia | G2: UNIDADE: | H2: COMPLEXO
B3: Relatório de Informação Hospitalar | G3: ANO: | H3: 2026
G4: MÊS: | H4: SETEMBRO
B8: BLOCO I | C8: PLANILHA DE INFORMAÇÕES - RECURSOS HUMANOS
A10: Campo | B10: Cargo / Função | C10: Carga Horária | D10: Quantidade | E10: Remuneração Máxima | F10: Remuneração Mínima | G10: Vínculo Contratual | H10: Jornada de Trabalho
A12: 1. Diretorias / Coordenações / Supervisões
A13: 1.1 | B13: GERENTE ASSISTENCIAL | C13: 44hs | D13: 1 | E13: 10404.17 | F13: 6228.33 | G13: CLT | H13: Mensalista
A14: 1.2 | B14: SUPERVISOR DE RECURSOS HUMANOS | C14: 44hs | D14: 1 | E14: 4367.82 | F14: 3131.41 | G14: CLT | H14: Mensalista
A15: 1.3 | B15: SUPERVISOR DE ALMOXARIFADO | C15: 44hs | D15: 1 | E15: 3464.8 | F15: 2862 | G15: CLT | H15: Mensalista
A16: 1.4 | B16: SUPERVISOR DE ENFERMAGEM | C16: 44hs | D16: 5 | E16: 7999.76 | F16: 4795.2 | G16: CLT | H16: Mensalista
A17: 1.5 | B17: SUPERVISOR DE T.I | C17: 44hs | D17: 1 | E17: 3990.78 | F17: 3090.96 | G17: CLT | H17: Mensalista
A18: 1.6 | B18: SUPERVISOR ADMINISTRATIVO | C18: 44hs | D18: 1 | E18: 2764.5 | F18: 2441.71 | G18: CLT | H18: Mensalista
A19: 1.7 | B19: SUPERVISOR DE LAVANDERIA | C19: 44hs | D19: 1 | E19: 3102.86 | F19: 2060.64 | G19: CLT | H19: Mensalista
A20: 2. Profissionais de Nível Superior
A21: 2.0 | B21: COORD. DE PRESTAÇÃO DE CONTAS | C21: 44hs | D21: 1 | E21: 4000 | F21: 2479.77 | G21: CLT | H21: Mensalista
A22: 2.2 | B22: COORD. ADMINISTRATIVO | C22: 44hs | D22: 1 | E22: 3900 | F22: 2559.14 | G22: CLT | H22: Mensalista
A23: 2.3 | B23: ASSISTENTE SOCIAL | C23: 30hs | D23: 6 | E23: 3331.5 | F23: 2851.12 | G23: CLT | H23: Mensalista
A24: 2.4 | B24: BIOMEDICO | C24: 44hs | D24: 2 | E24: 7126.68 | F24: 4729.32 | G24: CLT | H24: Mensalista
A25: 2.5 | B25: ENFERMEIRO | C25: 44hs | D25: 60 | E25: 4719.1 | F25: 3259.54 | G25: CLT | H25: Mensalista
A26: 2.6 | B26: ENFERMEIRO DA QUALIDADE | C26: 44hs | D26: 1 | E26: 4139 | F26: 3780 | G26: CLT | H26: Mensalista
A27: 2.7 | B27: ENFERMEIRO CCIH | C27: 44hs | D27: 2 | E27: 4139 | F27: 3596.4 | G27: CLT | H27: Mensalista
A28: 2.8 | B28: FARMACEUTICO | C28: 44hs | D28: 4 | E28: 8640 | F28: 2700 | G28: CLT | H28: Mensalista
A29: 2.9 | B29: FISIOTERAPEUTA | C29: 30hs | D29: 25 | E29: 3653.6 | F29: 2937.06 | G29: CLT | H29: Mensalista
A30: 3.0 | B30: FONOAUDIOLOGO | C30: 30hs | D30: 2 | E30: 3425.7 | F30: 2804.76 | G30: CLT | H30: Mensalista
A31: 3.1 | B31: NUTRICIONISTA | C31: 44hs | D31: 7 | E31: 3187.15 | F31: 2633.04 | G31: CLT | H31: Mensalista
A32: 3.2 | B32: PSICOLOGO | C32: 44hs | D32: 2 | E32: 2931.69 | F32: 2757.24 | G32: CLT | H32: Mensalista
A33: 3. Profissionais de Nível Médio/Técnico
A34: 3.0 | B34: AGENTE DE PORTARIA | C34: 44hs | D34: 13 | E34: 2245.2 | F34: 1680.43 | G34: CLT | H34: Mensalista
A35: 3.1 | B35: AUXILIAR DE SERVIÇOS GERAIS | C35: 44hs | D35: 46 | E35: 2545.2 | F35: 1680.43 | G35: CLT | H35: Mensalista
A36: 3.2 | B36: ASSISTENTE ADMINISTRATIVO | C36: 44hs | D36: 1 | E36: 2245.2 | F36: 1620 | G36: CLT | H36: Mensalista
A37: 3.3 | B37: AUXILIAR ADMINISTRATIVO | C37: 44hs | D37: 26 | E37: 2373.8 | F37: 1499.43 | G37: CLT | H37: Mensalista
A38: 3.4 | B38: AUXILIAR DE FARMÁCIA | C38: 44hs | D38: 16 | E38: 2255.65 | F38: 1499.43 | G38: CLT | H38: Mensalista
A39: 3.5 | B39: AUXILIAR DE RECURSOS HUMANOS | C39: 44hs | D39: 1 | E39: 2198.88 | F39: 1684.3 | G39: CLT | H39: Mensalista
A40: 3.6 | B40: AUXILIAR DE REGULAÇÃO | C40: 44hs | D40: 5 | E40: 2176.09 | F40: 1717.2 | G40: CLT | H40: Mensalista
A41: 3.7 | B41: AUXILIAR TÉCNICO DE MANUTENÇÃO | C41: 44hs | D41: 5 | E41: 2649.26 | F41: 1717.2 | G41: CLT | H41: Mensalista
A42: 3.8 | B42: COPEIRA | C42: 44hs | D42: 13 | E42: 2207.81 | F42: 1499.43 | G42: CLT | H42: Mensalista
A43: 3.9 | B43: AUXILIAR DE SUPRIMENTOS | C43: 44hs | D43: 4 | E43: 1945.2 | F43: 1499.43 | G43: CLT | H43: Mensalista
A44: 3.10 | B44: ENCARREGADO DE MANUTENCAO | C44: 44hs | D44: 1 | E44: 5607.94 | F44: 3205.44 | G44: CLT | H44: Mensalista
A45: 3.11 | B45: INSTRUMENTADOR CIRURGICO | C45: 44hs | D45: 2 | E45: 2131.76 | F45: 1602.72 | G45: CLT | H45: Mensalista
... A53: 3.20 | B53: AUXILIAR DE ROUPARIA | C53: 44hs | D53: 10 | E53: 2275.31 | F53: 1499.43 | G53: CLT | H53: Mensalista
...

Sheet Atividade I
E2: UNIDADE: | F2: COMPLEXO
C3: Secretaria da Saúde do Estado da Bahia | E3: ANO: | F3: 2026
C4: Relatório de Informação Hospitalar | E4: MÊS: | F4: SETEMBRO
A10: BLOCO J | B10: ÁREA DE INTERNAÇÃO
A11: Campo | B11: Unidades | C11: Unidade de Internação | D11: Altas | E11: Transferências Externas | F11: Transferências Internas | G11: Evasão | H11: Óbitos < 24 h | I11: Óbitos > 24 h | J11: SAÍDAS POR CLÍNICA
A13: 1 | C13: Clinica Médica Geral | D13: 237 | E13: 17 | F13: 9 | G13: 2 | H13: 0 | I13: 4 | J13: =SUM(D13:E13,G13:I13) -> 260
A14: 2 | C14: Saúde Mental | D14: 4 | E14: 0 | F14: 0 | G14: 0 | H14: 0 | I14: 0 | J14: =SUM(D14:E14,G14:I14) -> 4
A15: 3 | C15: Clínica Cirúrgica | D15: 340 | E15: 16 | F15: 4 | G15: 3 | H15: 0 | I15: 0 | J15: =SUM(D15:E15,G15:I15) -> 359
A16: 4 | C16: Clínica Pediátrica | D16: 51 | E16: 18 | F16: 0 | G16: 1 | H16: 0 | I16: 0 | J16: =SUM(D16:E16,G16:I16) -> 70
A17: 5 | C17: UTI Adulto | D17: 0 | E17: 2 | F17: 26 | G17: 0 | H17: 3 | I17: 5 | J17: =SUM(D17:E17,G17:I17) -> 10
A18: 6 | C18: Obstetrícia Clinica | D18: 73 | E18: 0 | F18: 0 | G18: 0 | H18: 0 | I18: 0 | J18: =SUM(D18:E18,G18:I18) -> 73
A19: 7 | C19: Obstetrícia Cirúrgica | D19: 112 | E19: 0 | F19: 0 | G19: 0 | H19: 0 | I19: 0 | J19: =SUM(D19:E19,G19:I19) -> 112
A20: 8 | C20: Gestação de Alto Risco | D20: 22 | E20: 0 | F20: 0 | G20: 0 | H20: 0 | I20: 0 | J20: =SUM(D20:E20,G20:I20) -> 22
A21: 9 | C21: UCIN Convencional (UCINCO) | D21: 9 | E21: 5 | F21: 11 | G21: 0 | H21: 1 | I21: 3 | J21: =SUM(D21:E21,G21:I21) -> 18
A22: 10 | C22: UCIN Canguru (UCINCA) | D22: 19 | E22: 0 | F22: 3 | G22: 0 | H22: 0 | I22: 0 | J22: =SUM(D22:E22,G22:I22) -> 19
A23: TOTAL GLOBAL | D23: =SUM(D13:D22) -> 867 | E23: =SUM(E13:E22) -> 58 | F23: =SUM(F13:F22) -> 53 | G23: =SUM(G13:G22) -> 6 | H23: =SUM(H13:H22) -> 4 | I23: =SUM(I13:I22) -> 12
C25: TOTAIS - HOSPITAL REGIONAL DA CHAPADA | D25: =SUM(D13:D17) -> 632 | E25: =SUM(E13:E17) -> 53 | F25: =SUM(F13:F17) -> 39 | G25: =SUM(G13:G17) -> 6 | H25: =SUM(H13:H17) -> 3 | I25: =SUM(I13:I17) -> 9
C27: TOTAIS MATERNIDADE FREI JUSTO VENTURE | D27: =SUM(D18:D22) -> 235 | E27: =SUM(E18:E22) -> 5 | F27: =SUM(F18:F22) -> 14 | G27: =SUM(G18:G22) -> 0 | H27: =SUM(H18:H22) -> 1 | I27: =SUM(I18:I22) -> 3
B30: TOTAL DE SAÍDAS (Altas+Óbitos+Transf.Externas+Evasão) HRC | D30: =SUM(D25,E25,G25,H25,I25) -> 703
B33: TOTAL DE SAÍDAS (Altas+Óbitos+Transf.Externas+Evasão) MFJV | D33: =SUM(D27,E27,G27,H27,I27) -> 244
B36: TOTAL DE SAÍDAS (Altas+Óbitos+Transf.Externas+Evasão) GLOBAL | D36: =SUM(D30,D33) -> 947
A39: Campo | B39: Unidades | C39: Unidade de Internação | D39: Nº de leitos CONTRATADOS | E39: Nº de pacientes/dia | F39: Nº de leitos dia no mês | G39: Infec. Hospitalar | H39: Nº de leitos ATIVOS | I39: Motivo Inativação do Leito
A41: 11 | B41: HRC | C41: Clinica Médica Geral + Saúde Mental | D41: 34 | E41: 1358 | F41: =D41*$D$56 -> 1020
A42: 13 | C42: Clínica Cirurgica | D42: 40 | E42: 708 | F42: =D42*$D$56 -> 1200 | G42: 1
A43: 14 | C43: Clínica Pediátrica | D43: 12 | E43: 125 | F43: =D43*$D$56 -> 360
A44: 15 | C44: UTI Adulto | D44: 10 | E44: 225 | F44: =D44*D56 -> 300 | G44: 2
A45: 16 | B45: MFJV | C45: Obstetrícia Clinica | D45: 10 | E45: 144 | F45: =D45*$D$56 -> 300
A46: 17 | C46: Obstetrícia Cirúrgica | D46: 6 | E46: 307 | F46: =D46*$D$56 -> 180 | G46: 2
A47: 18 | C47: Gestação de Alto Risco | D47: 4 | E47: 61 | F47: =D47*$D$56 -> 120
A48: 19 | C48: UCIN Convencional (UCINCO) | D48: 10 | E48: 191 | F48: =D48*$D$56 -> 300
A49: 20 | C49: UCIN Canguru (UCINCA) | D49: 5 | E49: 193 | F49: =D49*$D$56 -> 150
A50: TOTAIS GLOBAL | D50: =SUM(D41:D49) -> 131 | E50: =SUM(E41:E49) -> 3312 | F50: =SUM(F41:F49) -> 3930 | G50: =SUM(G41:G49) -> 5 | H50: =SUM(H41:H49) -> 0
C52: TOTAIS - HOSPITAL REGIONAL DA CHAPADA | D52: =SUM(D41:D44) -> 96 | E52: =SUM(E41:E44) -> 2416 | F52: =SUM(F41:F44) -> 2880 | G52: =SUM(G41:G44) -> 3 | H52: =SUM(H41:H44) -> 0
C53: TOTAIS MATERNIDADE FREI JUSTO VENTURE | D53: =SUM(D45:D49) -> 35 | E53: =SUM(E45:E49) -> 896 | F53: =SUM(F45:F49) -> 1050 | G53: =SUM(G45:G49) -> 2 | H53: =SUM(H45:H49) -> 0
C56: Nº de dias do mês GLOBAL | D56: 30
E60: BLOCO L | F60: ESTRUTURA DE ATENDIMENTOS COMPLEMENTAR
E61: Campo | F61: Item | G61: Qtde. Salas | H61: Desativadas | I61: Motivo Desativação
E62: 1 | F62: Salas Cirúrgicas | G62: 4
E63: 2 | F63: Salas Cirurgia Amb. | G63: 0
E64: 3 | F64: Consultórios Amb. | G64: 9
...

Sheet Atividade II 
C2: Secretaria da Saúde do Estado da Bahia | D2: UNIDADE: | E2: COMPLEXO
C3: Relatório de Informação Hospitalar | D3: ANO: | E3: 2026
D4: MÊS: | E4: SETEMBRO
B9: BLOCO S - GESTÃO DA CLÍNICA
B11: Campo | C11: Item | D11: Total
B12: 1 | C12: Total de protocolos implantados para as patologias mais prevalentes em gestação de alto risco | D12: 0
B13: 2 | C13: Total de participantes treinados nos protocolos elaborados | D13: 0
B14: 3 | C14: Total de treinamentos realizados | D14: 5
B16: 4 | C16: Total de atividades educativas na sala de espera do ambulatório da Maternidade | D16: 139
B17: 5 | C17: Percentual de atividades educativas | D17: =D16/D13 -> #DIV/0!
B19: BLOCO T - INSERÇÃO NO SISTEMA DE SAÚDE
B21: Campo | C21: Item | D21: Total
B22: 1 | C22: Total de unidades de atenção básica no município do hospital | D22: 12
B23: 2 | C23: Total de visitas institucionais | D23: 3
B24: 3 | C24: Percentual de unidades visitadas | D24: =D23/D22 -> 0.25
B26: 4 | C26: Total de gestantes no município (conforme mapa de vinculação) | D26: 353
B27: 5 | C27: Número de gestantes que visitaram a unidade antes do parto | D27: 8
B28: 6 | C28: Percentual de visitas realizadas | D28: 0
B30: BLOCO U - GESTÃO DE PESSOAS
B32: Campo | C32: Item | D32: Total
B33: 1 | C33: Número de reuniões de educação permanente | D33: 8
B38: BLOCO V INDICADORES REDE CEGONHA
B40: Campo | C40: Item | D40: Total
B41: 1 | C41: Total de partos normais | D41: 60
B42: 2 | C42: Total de Parturientes com partograma preenchido | D42: 54
B43: 3 | C43: Percentual de parturientes com partograma preenchido | D43: =D42/D41 -> 0.9
B44: OBS: | C44: Excluir mulheres que internaram no período expulsivo e pacientes com parto ocorridos antes da entrada no serviço.
B46: 4 | C46: Total de Partos Normais e Cesárias | D46: 163
B47: 5 | C47: Total de Cesárias em Primiparas | D47: 0
B48: 6 | C48: Percentual de partos Cesários em Pirimparas | D48: =D47/D46 -> 0
B50: 7 | C50: Total de partos normais de risco habitual | D50: 60
B51: 8 | C51: Parto Normal Assistido por Enfermeiro(a) Obstétrica | D51: 41
B52: 9 | C52: Percentual de partos normais de risco habitual assistido por Enfermeira Obst. | D52: =D51/D50 -> 0.68333333
B54: 10 | C54: Total de partos normais | D54: 62
B55: 11 | C55: Total de episiotomia | D55: 0
B56: 12 | C56: Percentual de episiotomia | D56: =D55/D54 -> 0
B58: 13 | C58: Total de recém-nascidos vivos elegíveis para Testagem | D58: 160
B59: 14 | C59: Total de recém-nascidos triados OLHINHO | D59: 160
B60: 15 | C60: Percentual de Triagem Neonatal - Teste do OLHINHO | D60: =D59/D58 -> 1
B62: 16 | C62: Total de recém-nascidos vivos elegíveis para Testagem | D62: 160
...

Sheet AIH-SIA
C2: UNIDADE: | D2: Complexo da Chapada
B3: Secretaria da Saúde do Estado da Bahia | C3: ANO: | D3: 2026
B4: Relatório de Informação Hospitalar | C4: MÊS: | D4: SETEMBRO
A9: BLOCO A1 | B9: PRODUÇÃO AMBULATORIAL FÍSICO-FINANCEIRO - INFORMAÇÕES SIA/SUS
A11: CAMPO | B11: PROCEDIMENTOS AMBULATORIAIS | C11: FÍSICO | D11: FINANCEIRO
A12: 2 | B12: GRUPO: 02-PROCEDIMENTOS COM FINALIDADE DIAGNOSTICA
A13: 2.1 | B13: SUB-GRUPO: 02-DIAGNÓSTICO EM LABORATÓRIO CLÍNICO | C13: 6448 | D13: 17520.09
A14: 2.2 | B14: SUB-GRUPO: 04-DIAGNÓSTICO POR RADIOLOGIA | C14: 1187 | D14: 8358.6
A15: 2.3 | B15: SUB-GRUPO: 05-DIAGNÓSTICO POR ULTRASSONOGRAFIA | C15: 433 | D15: 11743.2
A16: 2.4 | B16: SUB-GRUPO: 06-DIAGNÓSTICO POR TOMOGRAFIA | C16: 349 | D16: 63808.61
B17: SUB-GRUPO: 09 - DIAGNÓSTICO POR ENDOSCOPIA DIGESTIVA | C17: 66 | D17: 3178.56
A18: 2.5 | B18: SUB-GRUPO: 11 - MÉTODOS DIAGNÓSTICOS EM ESPECIALIDADE (ECG) | C18: 197 | D18: 1014.55
A19: 2.8 | B19: TOTAL DO GRUPO 02 | C19: =SUM(C13:C18) -> 8680 | D19: =SUM(D13:D18) -> 105623.61
A21: 3 | B21: GRUPO: 03-PROCEDIMENTOS CLINICOS - AMBULATÓRIO
A22: 3.1 | B22: 03.01.01.007-2 – Consulta Médica na Atenção Especializada | C22: 1960 | D22: 19590
A23: 3.2 | B23: 03.01.06.006-1 – Atendimento de Urgência na Atenção Especializada – Médico | C23: 2413 | D23: 26543
A24: 3.3 | B24: 03.01.06.002-9 – Atendimento de Urgência com Observação até 24 Horas | C24: 420 | D24: 5249
B25: 03.01.06.010-0 - Atendimento Ortopédico com Imobilização Provisória | C25: 116 | D25: 1508
A26: 3.4 | B26: TOTAL DO GRUPO 03
A29: 4 | B29: GRUPO: 04-PROCEDIMENTOS CIRÚRGICO - AMBULATORIO
B30: 04.01 - Pequenas cirurgias e cirurgias de pele, tecido subcutâneo e mucosa | C30: 399 | D30: 10238.5
B31: 04.03 - Cirurgia do sistema nervoso central e periférico
B32: 04.04 - Cirurgia das vias aéreas superiores, da face da cabeça e do pescoço
B33: 04.05 - Cirurgia do aparelho circulatório
B34: 04.07 - Ciruriga do aparelho digestivo, orgãos anexo e parede abdominal
B35: 04.08 - Cirurgia do sistema osteomuscular
B36: 04.09 - Cirurgia do sistema genito-urinário
B37: 04.12 - Cirurgia torácica
B38: 04.15 - Outras cirurgias
A39: 4.2 | B39: TOTAL DO GRUPO 04 | C39: =SUM(C30:C38) -> 399 | D39: =SUM(D30:D38) -> 10238.5
A41: TOTAL GERAL | C41: =SUM(C39,C26,C19) -> 9079 | D41: =SUM(D39,D26,D19) -> 115862.11
A44: BLOCO B1 | B44: PRODUÇÃO INTERNAÇÃO (AIH) FÍSICO-FINANCEIRO
A46: CAMPO | B46: Unidade de Internação | C46: Físico | D46: Financeiro
A47: 1 | B47: Clinica Médica Geral | C47: 274 | D47: 204068.04
B48: Saúde Mental | C48: 4 | D48: 8991.48
B49: Clínica Cirurgica | C49: =SUM(C50:C56) -> 359 | D49: =SUM(D50:D56) -> 208670.33
B50: 04.03 - Cirurgia do sistema nervoso central e periférico
B51: 04.06 - Cirurgia do sistema circulatório
B52: 04.07 - Ciruriga do aparelho digestivo, orgãos anexo e parede abdominal | C52: 124 | D52: 65670.3
B53: 04.08 - Cirurgia do sistema osteomuscular | C53: 109 | D53: 55050.5
...

Sheet Anexos de justificativas
D2: Secretaria da Saúde do Estado da Bahia | E2: UNIDADE: | F2: COMPLEXO
D3: Relatório de Informação Hospitalar | E3: ANO: | F3: 2026
E4: MÊS: | F4: SETEMBRO
B11: BLOCO C1 | D11: ANEXOS PARA JUSTIFICATIVAS E ESCLARECIMENTOS
B13: BLOCO | C13: CAMPO | D13: JUSTIFICATIVA / ESCLARECIMENTO
D15: Consulta de Profissionais de Nível Superior (exceto Médico) - Físico 4.070 Financeiro R$ 25.241,00 | E15: 25241
A30: Nome: | D30: MARIA AMÉLIA OLIVEIRA AZEVEDO
A31: Cargo: | D31: FATURISTA
A32: Telefone: | D32: 77 991645112
A33: E-mail: | D33: supfaturamnto@fabamed.org.br
